BEGIN:VCALENDAR
VERSION:2.0
PRODID:-//ChamberMaster//Event Calendar 2.0//EN
METHOD:PUBLISH
X-PUBLISHED-TTL:P3D
REFRESH-INTERVAL:P3D
CALSCALE:GREGORIAN
BEGIN:VEVENT
DTSTART:20180618T160000Z
DTEND:20180618T173000Z
X-MICROSOFT-CDO-ALLDAYEVENT:FALSE
SUMMARY:Ribbon Cutting: Trans-Cycle Industries of OHio
DESCRIPTION:Come celebrate Trans-Cycle Industries of Ohio's New Industry Ribbon Cutting. Lunch will be provided at Noon and the ribbon cutting will be held at 1:00 PM
X-ALT-DESC;FMTTYPE=text/html:Come celebrate Trans-Cycle Industries of Ohio&#39\;s New Industry Ribbon Cutting. Lunch will be provided at Noon and the ribbon cutting will be held at 1:00 PM&nbsp\;&nbsp\;&nbsp\;&nbsp\;&nbsp\;&nbsp\;&nbsp\;&nbsp\;&nbsp\;&nbsp\;&nbsp\;&nbsp\;
LOCATION:150 Ira Bean Parkway Richwood
UID:e.1767.12716
SEQUENCE:3
DTSTAMP:20260425T185353Z
URL:https://chambermaster.unioncounty.org/events/details/ribbon-cutting-trans-cycle-industries-of-ohio-12716
END:VEVENT

END:VCALENDAR
