BEGIN:VCALENDAR
VERSION:2.0
PRODID:-//ChamberMaster//Event Calendar 2.0//EN
METHOD:PUBLISH
X-PUBLISHED-TTL:P3D
REFRESH-INTERVAL:P3D
CALSCALE:GREGORIAN
BEGIN:VEVENT
DTSTART:20180823T200000Z
DTEND:20180823T230000Z
X-MICROSOFT-CDO-ALLDAYEVENT:FALSE
SUMMARY:Ribbon Cutting - The Pension Group
DESCRIPTION:Please join us for a Grand Opening Celebration and official Ribbon Cutting Ceremony of our new home office in Marysville on August 23 from 4 p.m. to 7 p.m.  The Pension Group (TPG) has recently moved to Marysville to be more convenient and closer to current and future clients.  The Ribbon Cutting with the Union County Chamber of Commerce will take place at 4 p.m. to kick-off the Grand Opening.
X-ALT-DESC;FMTTYPE=text/html:Please join us for a Grand Opening Celebration and official Ribbon Cutting Ceremony of our new home office in Marysville on August 23 from 4 p.m. to 7 p.m.&nbsp\; The Pension Group (TPG) has recently moved to Marysville to be more convenient and closer to current and future clients.&nbsp\; The Ribbon Cutting with the Union County Chamber of Commerce will take place at 4 p.m. to kick-off the Grand Opening.
LOCATION:The Pension Group 125 Damascus Rd.\, Marysville
UID:e.1767.12735
SEQUENCE:3
DTSTAMP:20260425T152940Z
URL:https://chambermaster.unioncounty.org/events/details/ribbon-cutting-the-pension-group-12735
END:VEVENT

END:VCALENDAR
