BEGIN:VCALENDAR
VERSION:2.0
PRODID:-//ChamberMaster//Event Calendar 2.0//EN
METHOD:PUBLISH
X-PUBLISHED-TTL:P3D
REFRESH-INTERVAL:P3D
CALSCALE:GREGORIAN
BEGIN:VEVENT
DTSTART:20190530T130000Z
DTEND:20190530T130000Z
X-MICROSOFT-CDO-ALLDAYEVENT:FALSE
SUMMARY:Ribbon Cutting - NextHome Experience
DESCRIPTION:Ribbon Cutting for the grand opening of NextHome Experience.
X-ALT-DESC;FMTTYPE=text/html:Ribbon Cutting for the grand opening of NextHome Experience.
LOCATION:106 Scott Farms Blvd.\, Marysville
UID:e.1767.12791
SEQUENCE:3
DTSTAMP:20260424T233444Z
URL:https://chambermaster.unioncounty.org/events/details/ribbon-cutting-nexthome-experience-12791
END:VEVENT

END:VCALENDAR
