BEGIN:VCALENDAR
VERSION:2.0
PRODID:-//ChamberMaster//Event Calendar 2.0//EN
METHOD:PUBLISH
X-PUBLISHED-TTL:P3D
REFRESH-INTERVAL:P3D
CALSCALE:GREGORIAN
BEGIN:VEVENT
DTSTART:20190326T203000Z
DTEND:20190326T213000Z
X-MICROSOFT-CDO-ALLDAYEVENT:FALSE
SUMMARY:Ribbon Cutting - Monarch Skilled Nursing & Rehab
DESCRIPTION:Grand Opening of Monarch Skilled Nursing & Rehab
X-ALT-DESC;FMTTYPE=text/html:Grand Opening of Monarch Skilled Nursing &amp\; Rehab<br />\n<br />\n&nbsp\;
LOCATION:730 Milcrest Drive\, Marysville
UID:e.1767.12782
SEQUENCE:3
DTSTAMP:20260425T031056Z
URL:https://chambermaster.unioncounty.org/events/details/ribbon-cutting-monarch-skilled-nursing-rehab-12782
END:VEVENT

END:VCALENDAR
