BEGIN:VCALENDAR
VERSION:2.0
PRODID:-//ChamberMaster//Event Calendar 2.0//EN
METHOD:PUBLISH
X-PUBLISHED-TTL:P3D
REFRESH-INTERVAL:P3D
CALSCALE:GREGORIAN
BEGIN:VEVENT
DTSTART:20190516T203000Z
DTEND:20190516T230000Z
X-MICROSOFT-CDO-ALLDAYEVENT:FALSE
SUMMARY:Ribbon Cutting - Minuteman Press
DESCRIPTION:Ribbon Cutting and Open House for Minuteman Press' new location.
X-ALT-DESC;FMTTYPE=text/html:Ribbon Cutting and Open House for Minuteman Press&#39\; new location.
LOCATION:4874 Blazer Parkway\, Dublin
UID:e.1767.12790
SEQUENCE:3
DTSTAMP:20260424T233440Z
URL:https://chambermaster.unioncounty.org/events/details/ribbon-cutting-minuteman-press-12790
END:VEVENT

END:VCALENDAR
