BEGIN:VCALENDAR
VERSION:2.0
PRODID:-//ChamberMaster//Event Calendar 2.0//EN
METHOD:PUBLISH
X-PUBLISHED-TTL:P3D
REFRESH-INTERVAL:P3D
CALSCALE:GREGORIAN
BEGIN:VEVENT
DTSTART:20190604T170000Z
DTEND:20190604T170000Z
X-MICROSOFT-CDO-ALLDAYEVENT:FALSE
SUMMARY:Ribbon Cutting - Jerome Grand
DESCRIPTION:Ribbon Cutting for Jerome Grand
X-ALT-DESC;FMTTYPE=text/html:Ribbon Cutting for Jerome Grand
LOCATION:7027 Park Mill Drive\, Plain City
UID:e.1767.12792
SEQUENCE:3
DTSTAMP:20260424T214134Z
URL:https://chambermaster.unioncounty.org/events/details/ribbon-cutting-jerome-grand-12792
END:VEVENT

END:VCALENDAR
