BEGIN:VCALENDAR
VERSION:2.0
PRODID:-//ChamberMaster//Event Calendar 2.0//EN
METHOD:PUBLISH
X-PUBLISHED-TTL:P3D
REFRESH-INTERVAL:P3D
CALSCALE:GREGORIAN
BEGIN:VEVENT
DTSTART:20190509T170000Z
DTEND:20190509T190000Z
X-MICROSOFT-CDO-ALLDAYEVENT:FALSE
SUMMARY:Ribbon Cutting- Edgewater Place
DESCRIPTION:Ribbon Cutting and Open House for the renovation of Edgewater Place Assisted Living's Respite Rehabilitation Unit.
X-ALT-DESC;FMTTYPE=text/html:Ribbon Cutting and Open House for the renovation of Edgewater Place Assisted Living&#39\;s Respite Rehabilitation Unit.&nbsp\;
LOCATION:11351 Lafayette Plain City Road\, Plain City
UID:e.1767.12789
SEQUENCE:3
DTSTAMP:20260424T233441Z
URL:https://chambermaster.unioncounty.org/events/details/ribbon-cutting-edgewater-place-12789
END:VEVENT

END:VCALENDAR
