BEGIN:VCALENDAR
VERSION:2.0
PRODID:-//ChamberMaster//Event Calendar 2.0//EN
METHOD:PUBLISH
X-PUBLISHED-TTL:P3D
REFRESH-INTERVAL:P3D
CALSCALE:GREGORIAN
BEGIN:VEVENT
DTSTART:20240404T180000Z
DTEND:20240404T183000Z
X-MICROSOFT-CDO-ALLDAYEVENT:FALSE
SUMMARY:Ribbon Cutting - Civil Solutions Associates
DESCRIPTION:Grand Opening Ribbon Cutting for Civil Solutions Associates
X-ALT-DESC;FMTTYPE=text/html:Grand Opening Ribbon Cutting for Civil Solutions Associates
LOCATION:7780 Corporate Blvd. Unit 1501 Plain City
UID:e.1767.13592
SEQUENCE:3
DTSTAMP:20260420T214300Z
URL:https://chambermaster.unioncounty.org/events/details/ribbon-cutting-civil-solutions-associates-13592
END:VEVENT

END:VCALENDAR
