BEGIN:VCALENDAR
VERSION:2.0
PRODID:-//ChamberMaster//Event Calendar 2.0//EN
METHOD:PUBLISH
X-PUBLISHED-TTL:P3D
REFRESH-INTERVAL:P3D
CALSCALE:GREGORIAN
BEGIN:VEVENT
DTSTART:20220701T130000Z
DTEND:20220701T210000Z
X-MICROSOFT-CDO-ALLDAYEVENT:FALSE
SUMMARY:Ribbon Cutting - Bodega Wine & Spirits
DESCRIPTION:Ribbon Cutting will take place at 9:00 AM and the Open House will happen all day. There will be Special Barrel Picks available
X-ALT-DESC;FMTTYPE=text/html:Ribbon Cutting will take place at 9:00 AM and the Open House will happen all day. There will be Special Barrel Picks available
LOCATION:1032 Columbus Avenue Marysville\, Ohio
UID:e.1767.13387
SEQUENCE:3
DTSTAMP:20260422T044913Z
URL:https://chambermaster.unioncounty.org/events/details/ribbon-cutting-bodega-wine-spirits-13387
END:VEVENT

END:VCALENDAR
