BEGIN:VCALENDAR
VERSION:2.0
PRODID:-//ChamberMaster//Event Calendar 2.0//EN
METHOD:PUBLISH
X-PUBLISHED-TTL:P3D
REFRESH-INTERVAL:P3D
CALSCALE:GREGORIAN
BEGIN:VEVENT
DTSTART:20180811T130000Z
DTEND:20180811T140000Z
X-MICROSOFT-CDO-ALLDAYEVENT:FALSE
SUMMARY:Ribbon Cutting - Agnone\, Morrison & Associates
DESCRIPTION:Join us August 11th at Agnone\, Morrison & Associates Ribbon Cutting for their new Office.
X-ALT-DESC;FMTTYPE=text/html:Join us August 11th at Agnone\, Morrison &amp\; Associates Ribbon Cutting for their new Office.<br />\n&nbsp\;
LOCATION:1550 London Ave. Marysville
UID:e.1767.12743
SEQUENCE:3
DTSTAMP:20260425T153051Z
URL:https://chambermaster.unioncounty.org/events/details/ribbon-cutting-agnone-morrison-associates-12743
END:VEVENT

END:VCALENDAR
