BEGIN:VCALENDAR
VERSION:2.0
PRODID:-//ChamberMaster//Event Calendar 2.0//EN
METHOD:PUBLISH
X-PUBLISHED-TTL:P3D
REFRESH-INTERVAL:P3D
CALSCALE:GREGORIAN
BEGIN:VEVENT
DTSTART:20180825T180000Z
DTEND:20180826T020000Z
X-MICROSOFT-CDO-ALLDAYEVENT:FALSE
SUMMARY:Plain City Classic Car Show
DESCRIPTION:16th Annual Plain City Classic Car Cruise-In\n\nPresented by Bob Chapman Ford\n\nSaturday\, August 25\, 2018\n\nRain or Shine\n\n\n\n40 + Awards\n\n150 Dash Plaques\n\n100 Goody Bags\n\nRaffles\n\nDJ Mac Thomas\n\nLive music with The Groove and Terry Davidson & The Gears\n\nLots of Food trucks and trailers\n\nBeer & Wine garden
X-ALT-DESC;FMTTYPE=text/html:16th Annual Plain City Classic Car Cruise-In<br />\nPresented by Bob Chapman Ford<br />\nSaturday\, August 25\, 2018<br />\nRain or Shine<br />\n<br />\n40 + Awards<br />\n150 Dash Plaques<br />\n100 Goody Bags<br />\nRaffles<br />\nDJ Mac Thomas<br />\nLive music with The Groove and Terry Davidson &amp\; The Gears<br />\nLots of Food trucks and trailers<br />\nBeer &amp\; Wine garden
LOCATION:Uptown Plain City
UID:e.1767.12736
SEQUENCE:3
DTSTAMP:20260425T152108Z
URL:https://chambermaster.unioncounty.org/events/details/plain-city-classic-car-show-12736
END:VEVENT

END:VCALENDAR
