BEGIN:VCALENDAR
VERSION:2.0
PRODID:-//ChamberMaster//Event Calendar 2.0//EN
METHOD:PUBLISH
X-PUBLISHED-TTL:P3D
REFRESH-INTERVAL:P3D
CALSCALE:GREGORIAN
BEGIN:VEVENT
DTSTART:20210721T203000Z
DTEND:20210721T223000Z
X-MICROSOFT-CDO-ALLDAYEVENT:FALSE
SUMMARY:Plain City Business Association (PCBA) After Hours Event
DESCRIPTION:PCBA Business After Hours\n\nWednesday\, July 21\, 2021\n\n4:30 - 6:30 pm\n\n\n\nJoin us for Networking with PCBA and Chamber Members!
X-ALT-DESC;FMTTYPE=text/html:PCBA Business After Hours<br />\nWednesday\, July 21\, 2021<br />\n4:30 - 6:30 pm<br />\n<br />\nJoin us for Networking with PCBA and Chamber Members!<br />\n<br />\n&nbsp\;
LOCATION:The Grainery 138 W Main St Plain City\, OH 43064
UID:e.1767.7483
SEQUENCE:3
DTSTAMP:20260422T222021Z
URL:https://chambermaster.unioncounty.org/events/details/plain-city-business-association-pcba-after-hours-event-7483
END:VEVENT

END:VCALENDAR
