BEGIN:VCALENDAR
VERSION:2.0
PRODID:-//ChamberMaster//Event Calendar 2.0//EN
METHOD:PUBLISH
X-PUBLISHED-TTL:P3D
REFRESH-INTERVAL:P3D
CALSCALE:GREGORIAN
BEGIN:VEVENT
DTSTART:20191120T130000Z
DTEND:20191120T140000Z
X-MICROSOFT-CDO-ALLDAYEVENT:FALSE
SUMMARY:Plain City Business Association (PCBA)
DESCRIPTION:PCBA  Speaker Bruce Daniels\n\nFull hot breakfast beginning at 7:30 am\n\nWe will be voting for officers.
X-ALT-DESC;FMTTYPE=text/html:PCBA&nbsp\; Speaker Bruce Daniels<br />\nFull hot breakfast beginning at 7:30 am<br />\nWe will be voting for officers.
LOCATION:Der Dutchman 445 S. Jefferson Ave. Plain City\, OH.
UID:e.1767.7463
SEQUENCE:3
DTSTAMP:20260424T150124Z
URL:https://chambermaster.unioncounty.org/events/details/plain-city-business-association-pcba-11-27-2019-7463
END:VEVENT

END:VCALENDAR
