BEGIN:VCALENDAR
VERSION:2.0
PRODID:-//ChamberMaster//Event Calendar 2.0//EN
METHOD:PUBLISH
X-PUBLISHED-TTL:P3D
REFRESH-INTERVAL:P3D
CALSCALE:GREGORIAN
BEGIN:VEVENT
DTSTART:20201117T130000Z
DTEND:20201117T140000Z
X-MICROSOFT-CDO-ALLDAYEVENT:FALSE
SUMMARY:Plain City Business Association (PCBA)
DESCRIPTION:PCBA\n\n\n\nTopic: Giving Back to the Community: Daily Needs Assistance
X-ALT-DESC;FMTTYPE=text/html:PCBA<br />\n<br />\nTopic: Giving Back to the Community: Daily Needs Assistance<br />\n<br />\n&nbsp\;
LOCATION:Zoom
UID:e.1767.7475
SEQUENCE:3
DTSTAMP:20260423T092353Z
URL:https://chambermaster.unioncounty.org/events/details/plain-city-business-association-pcba-11-25-2020-7475
END:VEVENT

END:VCALENDAR
