BEGIN:VCALENDAR
VERSION:2.0
PRODID:-//ChamberMaster//Event Calendar 2.0//EN
METHOD:PUBLISH
X-PUBLISHED-TTL:P3D
REFRESH-INTERVAL:P3D
CALSCALE:GREGORIAN
BEGIN:VEVENT
DTSTART:20221130T130000Z
DTEND:20221130T140000Z
X-MICROSOFT-CDO-ALLDAYEVENT:FALSE
SUMMARY:Plain City Business Association (PCBA)
DESCRIPTION:PCBA\n\nTopic: DNA (Daily Needs Assistance)\n\nBuffet Breakfast Sponsored by: Edgewater Place & Richwood Bank
X-ALT-DESC;FMTTYPE=text/html:PCBA<br />\nTopic: DNA (Daily Needs Assistance)<br />\nBuffet Breakfast Sponsored by: Edgewater Place &amp\; Richwood Bank
LOCATION:The Der Dutchman Restaurant 445 South Jefferson Avenue\, Plain City
UID:e.1767.7499
SEQUENCE:3
DTSTAMP:20260421T215438Z
URL:https://chambermaster.unioncounty.org/events/details/plain-city-business-association-pcba-11-23-2022-7499
END:VEVENT

END:VCALENDAR
