BEGIN:VCALENDAR
VERSION:2.0
PRODID:-//ChamberMaster//Event Calendar 2.0//EN
METHOD:PUBLISH
X-PUBLISHED-TTL:P3D
REFRESH-INTERVAL:P3D
CALSCALE:GREGORIAN
BEGIN:VEVENT
DTSTART:20181024T120000Z
DTEND:20181024T130000Z
X-MICROSOFT-CDO-ALLDAYEVENT:FALSE
SUMMARY:Plain City Business Association (PCBA)
DESCRIPTION:PCBA
X-ALT-DESC;FMTTYPE=text/html:PCBA
LOCATION:Der Dutchman 445 S. Jefferson Ave. Plain City\, OH.
UID:e.1767.7450
SEQUENCE:3
DTSTAMP:20260425T120034Z
URL:https://chambermaster.unioncounty.org/events/details/plain-city-business-association-pcba-10-24-2018-7450
END:VEVENT

END:VCALENDAR
