BEGIN:VCALENDAR
VERSION:2.0
PRODID:-//ChamberMaster//Event Calendar 2.0//EN
METHOD:PUBLISH
X-PUBLISHED-TTL:P3D
REFRESH-INTERVAL:P3D
CALSCALE:GREGORIAN
BEGIN:VEVENT
DTSTART:20200923T120000Z
DTEND:20200923T130000Z
X-MICROSOFT-CDO-ALLDAYEVENT:FALSE
SUMMARY:Plain City Business Association (PCBA)
DESCRIPTION:Plain City Business Association\n\n\n\nSpeaker: Plain City Mayor\, Jody Carney\n\nTopic: State of the City\n\nSponsor:\n\nRaffle:
X-ALT-DESC;FMTTYPE=text/html:Plain City Business Association<br />\n<br />\nSpeaker: Plain City Mayor\, Jody Carney<br />\nTopic: State of the City<br />\nSponsor:<br />\nRaffle:
LOCATION:Virtual Meeting (Please contact Tonya Woodruff at twoodruff@unioncounty.org for Zoom Link)
UID:e.1767.7473
SEQUENCE:3
DTSTAMP:20260423T211622Z
URL:https://chambermaster.unioncounty.org/events/details/plain-city-business-association-pcba-09-23-2020-7473
END:VEVENT

END:VCALENDAR
