BEGIN:VCALENDAR
VERSION:2.0
PRODID:-//ChamberMaster//Event Calendar 2.0//EN
METHOD:PUBLISH
X-PUBLISHED-TTL:P3D
REFRESH-INTERVAL:P3D
CALSCALE:GREGORIAN
BEGIN:VEVENT
DTSTART:20210922T120000Z
DTEND:20210922T130000Z
X-MICROSOFT-CDO-ALLDAYEVENT:FALSE
SUMMARY:Plain City Business Association (PCBA)
DESCRIPTION:PCBA\n\nSpeaker: Union County Convention & Visitors Bureau
X-ALT-DESC;FMTTYPE=text/html:PCBA<br />\nSpeaker: Union County Convention &amp\; Visitors Bureau
LOCATION:Der Dutchman Restaurant & Bakery 445 South Jefferson Avenue\, Plain City Also\, a Zoom Option - contact twoodruff@unioncounty.org for the link
UID:e.1767.7485
SEQUENCE:3
DTSTAMP:20260422T192012Z
URL:https://chambermaster.unioncounty.org/events/details/plain-city-business-association-pcba-09-22-2021-7485
END:VEVENT

END:VCALENDAR
