BEGIN:VCALENDAR
VERSION:2.0
PRODID:-//ChamberMaster//Event Calendar 2.0//EN
METHOD:PUBLISH
X-PUBLISHED-TTL:P3D
REFRESH-INTERVAL:P3D
CALSCALE:GREGORIAN
BEGIN:VEVENT
DTSTART:20200826T120000Z
DTEND:20200826T130000Z
X-MICROSOFT-CDO-ALLDAYEVENT:FALSE
SUMMARY:Plain City Business Association (PCBA)
DESCRIPTION:PCBA\n\n\n\nSpeaker:David Kell\n\nTopic:Economic Development - Plain City
X-ALT-DESC;FMTTYPE=text/html:PCBA<br />\n<br />\nSpeaker:David Kell<br />\nTopic:Economic Development - Plain City<br />\n&nbsp\;
LOCATION:Virtual Zoom Meeting Contact Tonya at twoodruff@unioncounty.org for log in info.
UID:e.1767.7472
SEQUENCE:3
DTSTAMP:20260423T230017Z
URL:https://chambermaster.unioncounty.org/events/details/plain-city-business-association-pcba-08-26-2020-7472
END:VEVENT

END:VCALENDAR
