BEGIN:VCALENDAR
VERSION:2.0
PRODID:-//ChamberMaster//Event Calendar 2.0//EN
METHOD:PUBLISH
X-PUBLISHED-TTL:P3D
REFRESH-INTERVAL:P3D
CALSCALE:GREGORIAN
BEGIN:VEVENT
DTSTART:20180725T120000Z
DTEND:20180725T130000Z
X-MICROSOFT-CDO-ALLDAYEVENT:FALSE
SUMMARY:Plain City Business Association (PCBA)
DESCRIPTION:PCBA
X-ALT-DESC;FMTTYPE=text/html:PCBA
LOCATION:Pleasant Valley Fire Dept. 650 W. Main St. Plain City\, OH.
UID:e.1767.7447
SEQUENCE:3
DTSTAMP:20260425T170157Z
URL:https://chambermaster.unioncounty.org/events/details/plain-city-business-association-pcba-07-25-2018-7447
END:VEVENT

END:VCALENDAR
