BEGIN:VCALENDAR
VERSION:2.0
PRODID:-//ChamberMaster//Event Calendar 2.0//EN
METHOD:PUBLISH
X-PUBLISHED-TTL:P3D
REFRESH-INTERVAL:P3D
CALSCALE:GREGORIAN
BEGIN:VEVENT
DTSTART:20220525T120000Z
DTEND:20220525T130000Z
X-MICROSOFT-CDO-ALLDAYEVENT:FALSE
SUMMARY:Plain City Business Association (PCBA)
DESCRIPTION:PCBA\n\nTopic: Maximizing Employee Success from a Mental Health Standpoint
X-ALT-DESC;FMTTYPE=text/html:PCBA<br />\nTopic: Maximizing Employee Success from a Mental Health Standpoint
LOCATION:The Der Dutchman 445 South Jefferson Avenue\, Plain City
UID:e.1767.7493
SEQUENCE:3
DTSTAMP:20260422T074848Z
URL:https://chambermaster.unioncounty.org/events/details/plain-city-business-association-pcba-05-25-2022-7493
END:VEVENT

END:VCALENDAR
