BEGIN:VCALENDAR
VERSION:2.0
PRODID:-//ChamberMaster//Event Calendar 2.0//EN
METHOD:PUBLISH
X-PUBLISHED-TTL:P3D
REFRESH-INTERVAL:P3D
CALSCALE:GREGORIAN
BEGIN:VEVENT
DTSTART:20180523T120000Z
DTEND:20180523T130000Z
X-MICROSOFT-CDO-ALLDAYEVENT:FALSE
SUMMARY:Plain City Business Association (PCBA)
DESCRIPTION:PCBA\n\nSpeaker: Dave Amerine from File 13 at UCO Industries
X-ALT-DESC;FMTTYPE=text/html:PCBA<br />\nSpeaker: Dave Amerine&nbsp\;from File 13 at UCO Industries&nbsp\;
LOCATION:Der Dutchman 445 S. Jefferson Ave. Plain City\, OH.
UID:e.1767.7445
SEQUENCE:3
DTSTAMP:20260425T203027Z
URL:https://chambermaster.unioncounty.org/events/details/plain-city-business-association-pcba-05-23-2018-7445
END:VEVENT

END:VCALENDAR
