BEGIN:VCALENDAR
VERSION:2.0
PRODID:-//ChamberMaster//Event Calendar 2.0//EN
METHOD:PUBLISH
X-PUBLISHED-TTL:P3D
REFRESH-INTERVAL:P3D
CALSCALE:GREGORIAN
BEGIN:VEVENT
DTSTART:20190522T120000Z
DTEND:20190522T130000Z
X-MICROSOFT-CDO-ALLDAYEVENT:FALSE
SUMMARY:Plain City Business Association (PCBA)
DESCRIPTION:Jason Duff\, Founder of Small Nation\n\n"Revitalization of Small Towns with BIG Ideas!"
X-ALT-DESC;FMTTYPE=text/html:Jason Duff\, Founder of Small Nation<br />\n&quot\;Revitalization of Small Towns with BIG Ideas!&quot\;<br />\n<br />\n&nbsp\;
LOCATION:Der Dutchman 445 S. Jefferson Ave. Plain City\, OH.
UID:e.1767.7457
SEQUENCE:3
DTSTAMP:20260424T233624Z
URL:https://chambermaster.unioncounty.org/events/details/plain-city-business-association-pcba-05-22-2019-7457
END:VEVENT

END:VCALENDAR
