BEGIN:VCALENDAR
VERSION:2.0
PRODID:-//ChamberMaster//Event Calendar 2.0//EN
METHOD:PUBLISH
X-PUBLISHED-TTL:P3D
REFRESH-INTERVAL:P3D
CALSCALE:GREGORIAN
BEGIN:VEVENT
DTSTART:20180425T120000Z
DTEND:20180425T130000Z
X-MICROSOFT-CDO-ALLDAYEVENT:FALSE
SUMMARY:Plain City Business Association (PCBA)
DESCRIPTION:PCBA\n\n The Plain City Police Department will be speaking
X-ALT-DESC;FMTTYPE=text/html:PCBA<br />\n&#8203\;The Plain City Police Department will be speaking
LOCATION:Der Dutchman 445 S. Jefferson Ave. Plain City\, OH.
UID:e.1767.7444
SEQUENCE:3
DTSTAMP:20260425T222111Z
URL:https://chambermaster.unioncounty.org/events/details/plain-city-business-association-pcba-04-25-2018-7444
END:VEVENT

END:VCALENDAR
