BEGIN:VCALENDAR
VERSION:2.0
PRODID:-//ChamberMaster//Event Calendar 2.0//EN
METHOD:PUBLISH
X-PUBLISHED-TTL:P3D
REFRESH-INTERVAL:P3D
CALSCALE:GREGORIAN
BEGIN:VEVENT
DTSTART:20210324T120000Z
DTEND:20210324T130000Z
X-MICROSOFT-CDO-ALLDAYEVENT:FALSE
SUMMARY:Plain City Business Association (PCBA)
DESCRIPTION:PCBA\n\n\n\nTopic:    Economic Development - Village & County
X-ALT-DESC;FMTTYPE=text/html:PCBA<br />\n<br />\nTopic:&nbsp\; &nbsp\; Economic Development - Village &amp\; County
LOCATION:Via Zoom
UID:e.1767.7479
SEQUENCE:3
DTSTAMP:20260423T040529Z
URL:https://chambermaster.unioncounty.org/events/details/plain-city-business-association-pcba-03-24-2021-7479
END:VEVENT

END:VCALENDAR
