BEGIN:VCALENDAR
VERSION:2.0
PRODID:-//ChamberMaster//Event Calendar 2.0//EN
METHOD:PUBLISH
X-PUBLISHED-TTL:P3D
REFRESH-INTERVAL:P3D
CALSCALE:GREGORIAN
BEGIN:VEVENT
DTSTART:20180228T130000Z
DTEND:20180228T140000Z
X-MICROSOFT-CDO-ALLDAYEVENT:FALSE
SUMMARY:Plain City Business Association (PCBA)
DESCRIPTION:PCBA\n\n Tech Support\n\nBrian McMahon
X-ALT-DESC;FMTTYPE=text/html:PCBA<br />\n&#8203\;Tech Support<br />\nBrian McMahon
LOCATION:Der Dutchman 445 S. Jefferson Ave. Plain City\, OH.
UID:e.1767.7442
SEQUENCE:3
DTSTAMP:20260426T014721Z
URL:https://chambermaster.unioncounty.org/events/details/plain-city-business-association-pcba-02-28-2018-7442
END:VEVENT

END:VCALENDAR
