BEGIN:VCALENDAR
VERSION:2.0
PRODID:-//ChamberMaster//Event Calendar 2.0//EN
METHOD:PUBLISH
X-PUBLISHED-TTL:P3D
REFRESH-INTERVAL:P3D
CALSCALE:GREGORIAN
BEGIN:VEVENT
DTSTART:20210127T130000Z
DTEND:20210127T140000Z
X-MICROSOFT-CDO-ALLDAYEVENT:FALSE
SUMMARY:Plain City Business Association (PCBA)
DESCRIPTION:PCBA\n\nSpeaker: Safely Returning to School & Work with COVID
X-ALT-DESC;FMTTYPE=text/html:PCBA<br />\nSpeaker: Safely Returning to School &amp\; Work with COVID
LOCATION:Via Zoom
UID:e.1767.7477
SEQUENCE:3
DTSTAMP:20260423T064217Z
URL:https://chambermaster.unioncounty.org/events/details/plain-city-business-association-pcba-01-27-2021-7477
END:VEVENT

END:VCALENDAR
