BEGIN:VCALENDAR
VERSION:2.0
PRODID:-//ChamberMaster//Event Calendar 2.0//EN
METHOD:PUBLISH
X-PUBLISHED-TTL:P3D
REFRESH-INTERVAL:P3D
CALSCALE:GREGORIAN
BEGIN:VEVENT
DTSTART:20200122T130000Z
DTEND:20200122T140000Z
X-MICROSOFT-CDO-ALLDAYEVENT:FALSE
SUMMARY:Plain City Business Association (PCBA)
DESCRIPTION:PCBA Topic/Speaker\n\nLavona See\; "Impact 60\, Impact in Plain City"
X-ALT-DESC;FMTTYPE=text/html:PCBA Topic/Speaker<br />\nLavona See\; &quot\;Impact 60\, Impact in Plain City&quot\;
LOCATION:Pleasant Valley Fire Department 650 W. Main St. Plain City\, OH 43064
UID:e.1767.7465
SEQUENCE:3
DTSTAMP:20260424T115813Z
URL:https://chambermaster.unioncounty.org/events/details/plain-city-business-association-pcba-01-22-2020-7465
END:VEVENT

END:VCALENDAR
