BEGIN:VCALENDAR
VERSION:2.0
PRODID:-//ChamberMaster//Event Calendar 2.0//EN
METHOD:PUBLISH
X-PUBLISHED-TTL:P3D
REFRESH-INTERVAL:P3D
CALSCALE:GREGORIAN
BEGIN:VEVENT
DTSTART;VALUE=DATE:20180719
DTEND;VALUE=DATE:20180722
TRANSP:TRANSPARENT
X-MICROSOFT-CDO-ALLDAYEVENT:TRUE
SUMMARY:Plain City Bicentennial Celebration
DESCRIPTION:Join us to celebrate Plain City turning 200 years!  This event will kick off at the Farmers Market and end Saturday evening with a concert from the Menus.  There will be family fun Thursday evening\, Friday evening and all day Saturday.
X-ALT-DESC;FMTTYPE=text/html:Join us to celebrate Plain City turning 200 years!&nbsp\; This event will kick off at the Farmers Market and end Saturday evening with a concert from the Menus.&nbsp\; There will be family fun Thursday evening\, Friday evening and all day Saturday.&nbsp\;
LOCATION:Partners Park
UID:e.1767.12737
SEQUENCE:3
DTSTAMP:20260425T165944Z
URL:https://chambermaster.unioncounty.org/events/details/plain-city-bicentennial-celebration-12737
END:VEVENT

END:VCALENDAR
