BEGIN:VCALENDAR
VERSION:2.0
PRODID:-//ChamberMaster//Event Calendar 2.0//EN
METHOD:PUBLISH
X-PUBLISHED-TTL:P3D
REFRESH-INTERVAL:P3D
CALSCALE:GREGORIAN
BEGIN:VEVENT
DTSTART:20180623T120000Z
DTEND:20180623T120000Z
X-MICROSOFT-CDO-ALLDAYEVENT:FALSE
SUMMARY:Plain City 4 Miler
DESCRIPTION:The flat course will take runners and walkers through the historic Uptown business district\, Pastime Park\, and the surrounding neighborhoods of the Village of Plain City.
X-ALT-DESC;FMTTYPE=text/html:<span style="font-family: Arial\, Helvetica\, sans-serif\; font-size: 12px\; background-color: rgb(255\, 255\, 255)\;">The flat course will take runners and&nbsp\;walkers through the historic Uptown business district\, Pastime Park\, and the surrounding neighborhoods of the Village of Plain City.</span>
LOCATION:Race starts at Pastime Park
UID:e.1767.10671
SEQUENCE:3
DTSTAMP:20260425T183821Z
URL:https://chambermaster.unioncounty.org/events/details/plain-city-4-miler-10671
END:VEVENT

END:VCALENDAR
