BEGIN:VCALENDAR
VERSION:2.0
PRODID:-//ChamberMaster//Event Calendar 2.0//EN
METHOD:PUBLISH
X-PUBLISHED-TTL:P3D
REFRESH-INTERVAL:P3D
CALSCALE:GREGORIAN
BEGIN:VEVENT
DTSTART:20180406T230000Z
DTEND:20180407T010000Z
X-MICROSOFT-CDO-ALLDAYEVENT:FALSE
SUMMARY:Once Upon a Mattress
DESCRIPTION:Once Upon a Mattress -\n\n\n\nA Play by the Silver Scene Players
X-ALT-DESC;FMTTYPE=text/html:Once Upon a Mattress -<br />\n<br />\nA Play by the Silver Scene Players
LOCATION:Union County Veteran's Memorial Auditorium 233 West Sixth St Marysville\, OH 43040
UID:e.1767.10694
SEQUENCE:3
DTSTAMP:20260425T221107Z
URL:https://chambermaster.unioncounty.org/events/details/once-upon-a-mattress-10694
END:VEVENT

END:VCALENDAR
