BEGIN:VCALENDAR
VERSION:2.0
PRODID:-//ChamberMaster//Event Calendar 2.0//EN
METHOD:PUBLISH
X-PUBLISHED-TTL:P3D
REFRESH-INTERVAL:P3D
CALSCALE:GREGORIAN
BEGIN:VEVENT
DTSTART:20180208T150000Z
DTEND:20180208T180000Z
X-MICROSOFT-CDO-ALLDAYEVENT:FALSE
SUMMARY:Ohio By-Product Synergy Network
DESCRIPTION:Ohio BPS Meeting\n\nThe meeting will contain 2 Networking Sessions\, an Intro to By-Product Synergy\, 2 Work Sessions and Report outs\, and a featured presentation called "Toward a Circular Economy" by Dr. Joseph Fiksel\, Executive Director\, Sustainable & Resilient Economy\, The Ohio State University.
X-ALT-DESC;FMTTYPE=text/html:Ohio BPS Meeting<br />\nThe meeting will contain 2 Networking Sessions\, an Intro to By-Product Synergy\, 2 Work Sessions and Report outs\, and a featured presentation called &quot\;Toward a Circular Economy&quot\; by Dr. Joseph Fiksel\, Executive Director\, Sustainable &amp\; Resilient Economy\, The Ohio State University.
LOCATION:Union Rural Electric 15461 US Rt. 36 Marysville
UID:e.1767.10676
SEQUENCE:3
DTSTAMP:20260426T014559Z
URL:https://chambermaster.unioncounty.org/events/details/ohio-by-product-synergy-network-10676
END:VEVENT

END:VCALENDAR
