BEGIN:VCALENDAR
VERSION:2.0
PRODID:-//ChamberMaster//Event Calendar 2.0//EN
METHOD:PUBLISH
X-PUBLISHED-TTL:P3D
REFRESH-INTERVAL:P3D
CALSCALE:GREGORIAN
BEGIN:VEVENT
DTSTART:20181006T114500Z
DTEND:20181006T143000Z
X-MICROSOFT-CDO-ALLDAYEVENT:FALSE
SUMMARY:Northwood 5K
DESCRIPTION:Northwood 5K
X-ALT-DESC;FMTTYPE=text/html:Northwood 5K&nbsp\;&nbsp\;&nbsp\;&nbsp\;&nbsp\;&nbsp\;&nbsp\;&nbsp\;&nbsp\;&nbsp\;&nbsp\;&nbsp\;
LOCATION:Mill Valley Central Park 701 Mill Wood Blvd. Marysville
UID:e.1767.10675
SEQUENCE:3
DTSTAMP:20260425T115757Z
URL:https://chambermaster.unioncounty.org/events/details/northwood-5k-10675
END:VEVENT

END:VCALENDAR
