BEGIN:VCALENDAR
VERSION:2.0
PRODID:-//ChamberMaster//Event Calendar 2.0//EN
METHOD:PUBLISH
X-PUBLISHED-TTL:P3D
REFRESH-INTERVAL:P3D
CALSCALE:GREGORIAN
BEGIN:VEVENT
DTSTART;VALUE=DATE:20190723
DTEND;VALUE=DATE:20190724
TRANSP:TRANSPARENT
X-MICROSOFT-CDO-ALLDAYEVENT:TRUE
SUMMARY:No July Mtg. Healthcare Providers Association
DESCRIPTION:No meeting in July
X-ALT-DESC;FMTTYPE=text/html:No meeting in July
LOCATION:No Meeting
UID:e.1767.7000
SEQUENCE:3
DTSTAMP:20260424T201143Z
URL:https://chambermaster.unioncounty.org/events/details/no-july-mtg-healthcare-providers-association-7000
END:VEVENT

END:VCALENDAR
