BEGIN:VCALENDAR
VERSION:2.0
PRODID:-//ChamberMaster//Event Calendar 2.0//EN
METHOD:PUBLISH
X-PUBLISHED-TTL:P3D
REFRESH-INTERVAL:P3D
CALSCALE:GREGORIAN
BEGIN:VEVENT
DTSTART:20181004T120000Z
DTEND:20181004T130000Z
X-MICROSOFT-CDO-ALLDAYEVENT:FALSE
SUMMARY:Multi Chamber Business Impact Breakfast 10/4/2018
DESCRIPTION:Business Impact Breakfast\n\nMulti Chamber with Dublin\, Logan and Union County\n\nLimit 100 people
X-ALT-DESC;FMTTYPE=text/html:Business Impact Breakfast<br />\nMulti Chamber with Dublin\, Logan and Union County<br />\nLimit 100 people
LOCATION:Honda Heritage Center 24025 Honda Pkwy Marysville\, OH
UID:e.1767.12747
SEQUENCE:3
DTSTAMP:20260425T115944Z
URL:https://chambermaster.unioncounty.org/events/details/multi-chamber-business-impact-breakfast-10-4-2018-12747
END:VEVENT

END:VCALENDAR
