BEGIN:VCALENDAR
VERSION:2.0
PRODID:-//ChamberMaster//Event Calendar 2.0//EN
METHOD:PUBLISH
X-PUBLISHED-TTL:P3D
REFRESH-INTERVAL:P3D
CALSCALE:GREGORIAN
BEGIN:VEVENT
DTSTART:20180517T180000Z
DTEND:20180517T190000Z
X-MICROSOFT-CDO-ALLDAYEVENT:FALSE
SUMMARY:MIND Diet
DESCRIPTION:"Healthy eating is more than just good for the body--it's good for the brain! The MIND (Mediterranean-Dash Intervention for Neurodegenerative Delay) diet may help prevent dementia and improve cognitive health as you again. Join Amy Keller\, MS\, RDN\, LD\, registered dietitian to learn all about what the MIND can do for you!"
X-ALT-DESC;FMTTYPE=text/html:&quot\;Healthy eating is more than just good for the body--it&#39\;s good for the brain! The MIND (Mediterranean-Dash Intervention for Neurodegenerative Delay) diet may help prevent dementia and improve cognitive health as you again. Join Amy Keller\, MS\, RDN\, LD\, registered dietitian to learn all about what the MIND can do for you!&quot\;
LOCATION:Windsor Senior Center 376 Rosehill Dr Marysville\, Oh 43040
UID:e.1767.12704
SEQUENCE:3
DTSTAMP:20260425T202730Z
URL:https://chambermaster.unioncounty.org/events/details/mind-diet-12704
END:VEVENT

END:VCALENDAR
