BEGIN:VCALENDAR
VERSION:2.0
PRODID:-//ChamberMaster//Event Calendar 2.0//EN
METHOD:PUBLISH
X-PUBLISHED-TTL:P3D
REFRESH-INTERVAL:P3D
CALSCALE:GREGORIAN
BEGIN:VEVENT
DTSTART:20180109T230000Z
DTEND:20180110T000000Z
X-MICROSOFT-CDO-ALLDAYEVENT:FALSE
SUMMARY:Milestone Meeting
DESCRIPTION:
X-ALT-DESC;FMTTYPE=text/html:
LOCATION:Plain City Historical Society 105 West Main St. Plain City
UID:e.1767.10529
SEQUENCE:3
DTSTAMP:20260426T032725Z
URL:https://chambermaster.unioncounty.org/events/details/milestone-meeting-10529
END:VEVENT

END:VCALENDAR
