BEGIN:VCALENDAR
VERSION:2.0
PRODID:-//ChamberMaster//Event Calendar 2.0//EN
METHOD:PUBLISH
X-PUBLISHED-TTL:P3D
REFRESH-INTERVAL:P3D
CALSCALE:GREGORIAN
BEGIN:VEVENT
DTSTART:20190718T110000Z
DTEND:20190722T010000Z
X-MICROSOFT-CDO-ALLDAYEVENT:FALSE
SUMMARY:Miami Valley Steam Threshers
DESCRIPTION:Thursday\, July 18th    *$2.00 admission (55 yrs.+\, until 2:00 pm)\n\n*Wheat Threshing\, Shingle and Veneer Mill run periodically throughout the day\n10:00 am      Opening Ceremonies\n\n\n\n2:00 pm        Steam Engine Games\n\n\n\n5:00 pm        Touch A Truck/Tractor\n\n\n\n6:00 pm        Lawn Mower & Steam Engine Test Pulls\n\n\n\n                   - pullinggardentractors.com - Brian Cox -740-360-8635\nFriday\, July 19th\n\n*Wheat Threshing\, Shingle and Veneer Mill run periodically throughout the day\n10:00 am      Opening & Flag Raising with Member Memorial\n\n\n\n10:30 am      Tractor Ride\n\n\n\n1:00 pm        Steam Engine Parade\n\n\n\n6:00 pm        Grand Parade Downtown\n\n\n\n8:00 pm        Smokin' Ham Band - South End - By Pool\nSaturday\, July 20th\n\n*Wheat Threshing\, Shingle and Veneer Mill run periodically throughout the day\n9:00 pm        Lawn Mower Pulls - Registration 9 am and Pulls start at 10 am\n\n                   - pullinggardentractors.com - Brian Cox -740-360-8635\n\n\n\n10:00 am      Opening & Flag Raising\n\n\n\n1:00 pm        Steam Engine Parade\n\n\n\n6:00 pm        Tractor & Truck Pull by COTPA *Please see www.cotpa.com for rules\n\n             - Light Pro Stock - Hot Rods - Natural Super Stock - 2.5 Diesel Work/Stock\n\n\nSunday\, July 21th\n\n*Wheat Threshing\, Shingle and Veneer Mill run periodically throughout the day\n8:00 am        Church Services\n\n\n\n10:00 am      Opening & Flag Raising Followed by the OSATPA Tractor Pull \n\n\n\n2:00 pm       Kiddie Tractor Pull
X-ALT-DESC;FMTTYPE=text/html:<div style="text-align: center\;"><span style="font-size:14px\;"><strong>Thursday\, July 18th&nbsp\; &nbsp\; *$2.00 admission (55 yrs.+\, until 2:00 pm)</strong></span></div>\n\n<div style="text-align: center\;">*Wheat Threshing\, Shingle and Veneer Mill run periodically throughout the day</div>\n10:00 am&nbsp\; &nbsp\; &nbsp\; Opening Ceremonies<br />\n<br />\n2:00 pm&nbsp\; &nbsp\; &nbsp\; &nbsp\; Steam Engine Games<br />\n<br />\n5:00 pm&nbsp\; &nbsp\; &nbsp\; &nbsp\; Touch A Truck/Tractor<br />\n<br />\n6:00 pm&nbsp\; &nbsp\; &nbsp\; &nbsp\; Lawn Mower &amp\; Steam Engine Test Pulls<br />\n<br />\n&nbsp\; &nbsp\; &nbsp\; &nbsp\; &nbsp\; &nbsp\; &nbsp\; &nbsp\; &nbsp\; &nbsp\;- pullinggardentractors.com - Brian Cox -740-360-8635\n<div style="text-align: center\;"><span style="font-size:14px\;"><strong>Friday\, July 19th</strong></span></div>\n\n<div style="text-align: center\;">*Wheat Threshing\, Shingle and Veneer Mill run periodically throughout the day</div>\n10:00 am&nbsp\; &nbsp\; &nbsp\; Opening &amp\; Flag Raising with Member Memorial<br />\n<br />\n10:30 am&nbsp\; &nbsp\; &nbsp\; Tractor Ride<br />\n<br />\n1:00 pm&nbsp\; &nbsp\; &nbsp\; &nbsp\; Steam Engine Parade<br />\n<br />\n6:00 pm&nbsp\; &nbsp\; &nbsp\; &nbsp\; Grand Parade Downtown<br />\n<br />\n8:00 pm&nbsp\; &nbsp\; &nbsp\; &nbsp\; Smokin&#39\; Ham Band - South End - By Pool\n<div style="text-align: center\;"><strong><span style="font-size:14px\;">Saturday\, July 20th</span></strong></div>\n\n<div style="text-align: center\;">*Wheat Threshing\, Shingle and Veneer Mill run periodically throughout the day</div>\n9:00 pm&nbsp\; &nbsp\; &nbsp\; &nbsp\; Lawn Mower Pulls - Registration 9 am and Pulls start at 10 am<br />\n&nbsp\; &nbsp\; &nbsp\; &nbsp\; &nbsp\; &nbsp\; &nbsp\; &nbsp\; &nbsp\; &nbsp\;- pullinggardentractors.com - Brian Cox -740-360-8635<br />\n<br />\n10:00 am&nbsp\; &nbsp\; &nbsp\; Opening &amp\; Flag Raising<br />\n<br />\n1:00 pm&nbsp\; &nbsp\; &nbsp\; &nbsp\; Steam Engine Parade<br />\n<br />\n6:00 pm&nbsp\; &nbsp\; &nbsp\; &nbsp\; Tractor &amp\; Truck Pull by COTPA *Please see www.cotpa.com for rules<br />\n&nbsp\; &nbsp\; &nbsp\; &nbsp\; &nbsp\; &nbsp\; &nbsp\;- Light Pro Stock - Hot Rods - Natural Super Stock - 2.5 Diesel Work/Stock\n<div style="text-align: center\;"><br />\n<span style="font-size:14px\;"><strong>Sunday\, July 21th</strong></span></div>\n\n<div style="text-align: center\;">*Wheat Threshing\, Shingle and Veneer Mill run periodically throughout the day</div>\n8:00 am&nbsp\; &nbsp\; &nbsp\; &nbsp\; Church Services<br />\n<br />\n10:00 am&nbsp\; &nbsp\; &nbsp\; Opening &amp\; Flag Raising Followed by the OSATPA Tractor Pull&#8203\;<br />\n<br />\n2:00 pm&nbsp\; &nbsp\; &nbsp\; &nbsp\;Kiddie Tractor Pull
LOCATION:Past Time Park 344-350 Chillicothe ST. Plain City\, OH
UID:e.1767.12804
SEQUENCE:3
DTSTAMP:20260424T200748Z
URL:https://chambermaster.unioncounty.org/events/details/miami-valley-steam-threshers-12804
END:VEVENT

END:VCALENDAR
