BEGIN:VCALENDAR
VERSION:2.0
PRODID:-//ChamberMaster//Event Calendar 2.0//EN
METHOD:PUBLISH
X-PUBLISHED-TTL:P3D
REFRESH-INTERVAL:P3D
CALSCALE:GREGORIAN
BEGIN:VEVENT
DTSTART:20191024T220000Z
DTEND:20191025T000000Z
X-MICROSOFT-CDO-ALLDAYEVENT:FALSE
SUMMARY:Meet the Candidates Night - Special Business Impact Meeting
DESCRIPTION:Meet the Candidates Night\n\nJoin us to hear from the candidates for Marysville City Council\, Jerome Township Trustee\, and Marysville School Board and the Plain City Village Council.
X-ALT-DESC;FMTTYPE=text/html:Meet the Candidates Night<br />\nJoin us to hear from the candidates for Marysville City Council\, Jerome Township Trustee\, and Marysville School Board and the Plain City Village Council.
LOCATION:URE 15461 US-36 Marysville\, OH 43040
UID:e.1767.12820
SEQUENCE:3
DTSTAMP:20260424T163217Z
URL:https://chambermaster.unioncounty.org/events/details/meet-the-candidates-night-special-business-impact-meeting-12820
END:VEVENT

END:VCALENDAR
