BEGIN:VCALENDAR
VERSION:2.0
PRODID:-//ChamberMaster//Event Calendar 2.0//EN
METHOD:PUBLISH
X-PUBLISHED-TTL:P3D
REFRESH-INTERVAL:P3D
CALSCALE:GREGORIAN
BEGIN:VEVENT
DTSTART:20180811T120000Z
DTEND:20180811T160000Z
X-MICROSOFT-CDO-ALLDAYEVENT:FALSE
SUMMARY:Master Gardener Plant Sale
DESCRIPTION:15th annual Union County Master Gardener Plant Sale. A selection of sun and shade perennials\, native Ohio plants\, shrubs and trees\, grasses\, bulbs and daylilies. Plants are grown by Master Gardeners and sold at very reasonable prices.
X-ALT-DESC;FMTTYPE=text/html:15th annual Union County Master Gardener Plant Sale. A selection of sun and shade perennials\, native Ohio plants\, shrubs and trees\, grasses\, bulbs and daylilies. Plants are grown by Master Gardeners and sold at very reasonable prices.
LOCATION:Armory Building\, Union County Fairgrounds\, 845 Main St.\, Marysville\, OH
UID:e.1767.10688
SEQUENCE:3
DTSTAMP:20260425T153215Z
URL:https://chambermaster.unioncounty.org/events/details/master-gardener-plant-sale-08-11-2018-10688
END:VEVENT

END:VCALENDAR
