BEGIN:VCALENDAR
VERSION:2.0
PRODID:-//ChamberMaster//Event Calendar 2.0//EN
METHOD:PUBLISH
X-PUBLISHED-TTL:P3D
REFRESH-INTERVAL:P3D
CALSCALE:GREGORIAN
BEGIN:VEVENT
DTSTART:20180528T121500Z
DTEND:20180528T140000Z
X-MICROSOFT-CDO-ALLDAYEVENT:FALSE
SUMMARY:Marysville Memorial Day Celebration
DESCRIPTION:8:15 AM Schwartzkopf Park honoring those "Lost at Sea"\n	9:00 AM Parade from Fifth and Plum Street to Oakdale Cemetery\n	9:30 AM Ceremony at Oakdale Cemetery on West Fifth Street\n\n                          Guest Speaker- Robert Mergel\, Civil War Historian and     Re-enactor\n\n                                                    Chaplain- Pastor Jeff Darby\, Marysville Church of Christ\n\n                                                    Student Speakers- Elizabeth Arend: General Logan's Orders\n\n                                                                                   Kate White: Gettysburg Address\n\n\n\nCeremonies After Oakdale Cemetery in order of occurence:\n\n    Amrine Cemetery - American Legion Post 79 - Catholic Cemetery\, VFW Post 3320 - VFW Post 3320 on Industrial Parkway - Ceremony near noon.
X-ALT-DESC;FMTTYPE=text/html:<ul>\n	<li>8:15 AM Schwartzkopf&nbsp\;Park honoring those &quot\;Lost at Sea&quot\;</li>\n	<li>9:00 AM Parade from Fifth and Plum Street to Oakdale Cemetery</li>\n	<li>9:30 AM Ceremony at Oakdale Cemetery on West Fifth Street</li>\n</ul>\n&nbsp\;&nbsp\;&nbsp\;&nbsp\;&nbsp\;&nbsp\;&nbsp\;&nbsp\;&nbsp\;&nbsp\;&nbsp\;&nbsp\;&nbsp\;&nbsp\;&nbsp\;&nbsp\;&nbsp\;&nbsp\;&nbsp\;&nbsp\;&nbsp\;&nbsp\;&nbsp\;&nbsp\;&nbsp\;&nbsp\;Guest Speaker- Robert Mergel\, Civil War Historian and &nbsp\;&nbsp\;&nbsp\;&nbsp\;Re-enactor<br />\n&nbsp\;&nbsp\;&nbsp\;&nbsp\;&nbsp\;&nbsp\;&nbsp\;&nbsp\;&nbsp\;&nbsp\;&nbsp\;&nbsp\;&nbsp\; &nbsp\; &nbsp\;&nbsp\;&nbsp\;&nbsp\;&nbsp\;&nbsp\;&nbsp\;&nbsp\;&nbsp\;&nbsp\;&nbsp\;&nbsp\;&nbsp\;&nbsp\;&nbsp\;&nbsp\;&nbsp\;&nbsp\;&nbsp\;&nbsp\;&nbsp\;&nbsp\;&nbsp\;&nbsp\;&nbsp\;&nbsp\;&nbsp\;&nbsp\;&nbsp\;&nbsp\;&nbsp\;&nbsp\;&nbsp\;&nbsp\;&nbsp\;&nbsp\;Chaplain- Pastor Jeff Darby\, Marysville Church of Christ<br />\n&nbsp\;&nbsp\;&nbsp\;&nbsp\;&nbsp\;&nbsp\;&nbsp\;&nbsp\;&nbsp\;&nbsp\;&nbsp\;&nbsp\;&nbsp\; &nbsp\; &nbsp\;&nbsp\;&nbsp\;&nbsp\;&nbsp\;&nbsp\;&nbsp\;&nbsp\;&nbsp\;&nbsp\;&nbsp\;&nbsp\;&nbsp\;&nbsp\;&nbsp\;&nbsp\;&nbsp\;&nbsp\;&nbsp\;&nbsp\;&nbsp\;&nbsp\;&nbsp\;&nbsp\;&nbsp\;&nbsp\;&nbsp\;&nbsp\;&nbsp\;&nbsp\;&nbsp\;&nbsp\;&nbsp\;&nbsp\;&nbsp\;&nbsp\;Student Speakers- Elizabeth Arend: General Logan&#39\;s Orders<br />\n&nbsp\;&nbsp\;&nbsp\;&nbsp\;&nbsp\;&nbsp\;&nbsp\;&nbsp\;&nbsp\;&nbsp\;&nbsp\;&nbsp\;&nbsp\;&nbsp\;&nbsp\;&nbsp\;&nbsp\;&nbsp\;&nbsp\;&nbsp\;&nbsp\;&nbsp\;&nbsp\;&nbsp\;&nbsp\;&nbsp\;&nbsp\;&nbsp\;&nbsp\;&nbsp\;&nbsp\;&nbsp\;&nbsp\;&nbsp\;&nbsp\;&nbsp\;&nbsp\;&nbsp\;&nbsp\;&nbsp\;&nbsp\;&nbsp\;&nbsp\;&nbsp\;&nbsp\; &nbsp\; &nbsp\;&nbsp\;&nbsp\;&nbsp\;&nbsp\;&nbsp\;&nbsp\;&nbsp\;&nbsp\;&nbsp\;&nbsp\;&nbsp\;&nbsp\;&nbsp\;&nbsp\;&nbsp\;&nbsp\;&nbsp\;&nbsp\;&nbsp\;&nbsp\;&nbsp\;&nbsp\;&nbsp\;&nbsp\;&nbsp\;&nbsp\;&nbsp\;&nbsp\;&nbsp\;&nbsp\;&nbsp\;&nbsp\;&nbsp\;&nbsp\;Kate White: Gettysburg Address<br />\n<br />\nCeremonies After Oakdale Cemetery in order of occurence:<br />\n&nbsp\; &nbsp\; Amrine&nbsp\;Cemetery - American Legion Post 79 - Catholic Cemetery\, VFW Post 3320 - VFW Post 3320 on Industrial Parkway - Ceremony near noon.
LOCATION:
UID:e.1767.12710
SEQUENCE:3
DTSTAMP:20260425T203138Z
URL:https://chambermaster.unioncounty.org/events/details/marysville-memorial-day-celebration-12710
END:VEVENT

END:VCALENDAR
