BEGIN:VCALENDAR
VERSION:2.0
PRODID:-//ChamberMaster//Event Calendar 2.0//EN
METHOD:PUBLISH
X-PUBLISHED-TTL:P3D
REFRESH-INTERVAL:P3D
CALSCALE:GREGORIAN
BEGIN:VEVENT
DTSTART:20180309T220000Z
DTEND:20180310T010000Z
X-MICROSOFT-CDO-ALLDAYEVENT:FALSE
SUMMARY:Marysville KidsFest
DESCRIPTION:1st Annual Marysville KidsFest\n\n\n\nGreat way to have fun with the entire family!\n\nFamily Bounce Houses\, Face Painters\, Balloon Artists\, Free Popcorn\, Family Bingo\, Games and more!
X-ALT-DESC;FMTTYPE=text/html:1st Annual Marysville KidsFest<br />\n<br />\nGreat way to have fun with the entire family!<br />\nFamily Bounce Houses\, Face Painters\, Balloon Artists\, Free Popcorn\, Family Bingo\, Games and more!
LOCATION:Creekview Intermediate School 2000 Creekview Drive Marysville\, OH 43040
UID:e.1767.10693
SEQUENCE:3
DTSTAMP:20260426T014745Z
URL:https://chambermaster.unioncounty.org/events/details/marysville-kidsfest-10693
END:VEVENT

END:VCALENDAR
