BEGIN:VCALENDAR
VERSION:2.0
PRODID:-//ChamberMaster//Event Calendar 2.0//EN
METHOD:PUBLISH
X-PUBLISHED-TTL:P3D
REFRESH-INTERVAL:P3D
CALSCALE:GREGORIAN
BEGIN:VEVENT
DTSTART:20180811T120000Z
DTEND:20180811T193000Z
X-MICROSOFT-CDO-ALLDAYEVENT:FALSE
SUMMARY:Marysville Charity Car Show
DESCRIPTION:4th Annual Marysville Charity Car Show. Hundreds of Classic\, Club\, and Collector cars\, trucks and motorcycles. Compete for 100 6 ft. trophies and ten "Best of" awards. Music\, food\, and hundreds of fabulous cars make for a great day! Spectators welcome. All proceeds benefit the Union County Foundation and the Arthritis Foundation.
X-ALT-DESC;FMTTYPE=text/html:4th Annual Marysville Charity Car Show. Hundreds of Classic\, Club\, and Collector cars\, trucks and motorcycles. Compete for 100 6 ft. trophies and ten &quot\;Best of&quot\; awards. Music\, food\, and hundreds of fabulous cars make for a great day! Spectators welcome. All proceeds benefit the Union County Foundation and the Arthritis Foundation.
LOCATION:Honda Marysville\, 640 Coleman's Crossing Blvd.\, Marysville\, Ohio 43040
UID:e.1767.10530
SEQUENCE:3
DTSTAMP:20260425T153554Z
URL:https://chambermaster.unioncounty.org/events/details/marysville-charity-car-show-08-11-2018-10530
END:VEVENT

END:VCALENDAR
