BEGIN:VCALENDAR
VERSION:2.0
PRODID:-//ChamberMaster//Event Calendar 2.0//EN
METHOD:PUBLISH
X-PUBLISHED-TTL:P3D
REFRESH-INTERVAL:P3D
CALSCALE:GREGORIAN
BEGIN:VEVENT
DTSTART:20201021T120000Z
DTEND:20201021T130000Z
X-MICROSOFT-CDO-ALLDAYEVENT:FALSE
SUMMARY:Marysville Business Association
DESCRIPTION:Speaker: Marysville Superintendent\, Diane Allen
X-ALT-DESC;FMTTYPE=text/html:Speaker: Marysville Superintendent\, Diane Allen
LOCATION:Via Zoom
UID:e.1767.13129
SEQUENCE:3
DTSTAMP:20260423T101318Z
URL:https://chambermaster.unioncounty.org/events/details/marysville-business-association-13129
END:VEVENT

END:VCALENDAR
