BEGIN:VCALENDAR
VERSION:2.0
PRODID:-//ChamberMaster//Event Calendar 2.0//EN
METHOD:PUBLISH
X-PUBLISHED-TTL:P3D
REFRESH-INTERVAL:P3D
CALSCALE:GREGORIAN
BEGIN:VEVENT
DTSTART:20221116T130000Z
DTEND:20221116T140000Z
X-MICROSOFT-CDO-ALLDAYEVENT:FALSE
SUMMARY:Marysville Business Association
DESCRIPTION:Marysville Business Association\n\nSpeaker/Topic: Brewery's Business Panel
X-ALT-DESC;FMTTYPE=text/html:Marysville Business Association<br />\nSpeaker/Topic: Brewery&#39\;s Business Panel<br />\n&nbsp\;
LOCATION:The Marysville Elks 125 East Fifth Street\, Marysville
UID:e.1767.12995
SEQUENCE:3
DTSTAMP:20260421T215849Z
URL:https://chambermaster.unioncounty.org/events/details/marysville-business-association-11-16-2022-12995
END:VEVENT

END:VCALENDAR
