BEGIN:VCALENDAR
VERSION:2.0
PRODID:-//ChamberMaster//Event Calendar 2.0//EN
METHOD:PUBLISH
X-PUBLISHED-TTL:P3D
REFRESH-INTERVAL:P3D
CALSCALE:GREGORIAN
BEGIN:VEVENT
DTSTART:20181017T120000Z
DTEND:20181017T130000Z
X-MICROSOFT-CDO-ALLDAYEVENT:FALSE
SUMMARY:Marysville Business Association
DESCRIPTION:Marysville Business Association
X-ALT-DESC;FMTTYPE=text/html:Marysville Business Association
LOCATION:The Marysville Elks 125 E. Fifth St. Marysville\, OH
UID:e.1767.10398
SEQUENCE:3
DTSTAMP:20260425T120505Z
URL:https://chambermaster.unioncounty.org/events/details/marysville-business-association-10-17-2018-10398
END:VEVENT

END:VCALENDAR
