BEGIN:VCALENDAR
VERSION:2.0
PRODID:-//ChamberMaster//Event Calendar 2.0//EN
METHOD:PUBLISH
X-PUBLISHED-TTL:P3D
REFRESH-INTERVAL:P3D
CALSCALE:GREGORIAN
BEGIN:VEVENT
DTSTART:20200916T120000Z
DTEND:20200916T130000Z
X-MICROSOFT-CDO-ALLDAYEVENT:FALSE
SUMMARY:Marysville Business Association
DESCRIPTION:Marysville Business Association\n\nSpeaker/Topic: Kara Brown\, "Small Leadership Workshop - Part 2
X-ALT-DESC;FMTTYPE=text/html:Marysville Business Association<br />\nSpeaker/Topic: Kara Brown\, &quot\;Small Leadership Workshop - Part 2
LOCATION:Via Zoom
UID:e.1767.12969
SEQUENCE:3
DTSTAMP:20260423T230412Z
URL:https://chambermaster.unioncounty.org/events/details/marysville-business-association-09-16-2020-12969
END:VEVENT

END:VCALENDAR
