BEGIN:VCALENDAR
VERSION:2.0
PRODID:-//ChamberMaster//Event Calendar 2.0//EN
METHOD:PUBLISH
X-PUBLISHED-TTL:P3D
REFRESH-INTERVAL:P3D
CALSCALE:GREGORIAN
BEGIN:VEVENT
DTSTART:20210915T120000Z
DTEND:20210915T130000Z
X-MICROSOFT-CDO-ALLDAYEVENT:FALSE
SUMMARY:Marysville Business Association
DESCRIPTION:Marysville Business Association\n\nSpeaker/Topic: Leadership\, Part 2
X-ALT-DESC;FMTTYPE=text/html:Marysville Business Association<br />\nSpeaker/Topic: Leadership\, Part 2<br />\n&nbsp\;
LOCATION:The Elks Lodge 125 East 5th Street\, Marysville
UID:e.1767.12981
SEQUENCE:3
DTSTAMP:20260422T210414Z
URL:https://chambermaster.unioncounty.org/events/details/marysville-business-association-09-15-2021-12981
END:VEVENT

END:VCALENDAR
