BEGIN:VCALENDAR
VERSION:2.0
PRODID:-//ChamberMaster//Event Calendar 2.0//EN
METHOD:PUBLISH
X-PUBLISHED-TTL:P3D
REFRESH-INTERVAL:P3D
CALSCALE:GREGORIAN
BEGIN:VEVENT
DTSTART:20210818T120000Z
DTEND:20210818T130000Z
X-MICROSOFT-CDO-ALLDAYEVENT:FALSE
SUMMARY:Marysville Business Association
DESCRIPTION:Marysville Business Association\n\nTopic: Leadership Part 1
X-ALT-DESC;FMTTYPE=text/html:Marysville Business Association<br />\nTopic: Leadership Part 1&nbsp\;<br />\n&nbsp\;
LOCATION:The Elks Lodge 125 East 5th Street Marysville\, OH 43040
UID:e.1767.12980
SEQUENCE:3
DTSTAMP:20260422T210131Z
URL:https://chambermaster.unioncounty.org/events/details/marysville-business-association-08-18-2021-12980
END:VEVENT

END:VCALENDAR
