BEGIN:VCALENDAR
VERSION:2.0
PRODID:-//ChamberMaster//Event Calendar 2.0//EN
METHOD:PUBLISH
X-PUBLISHED-TTL:P3D
REFRESH-INTERVAL:P3D
CALSCALE:GREGORIAN
BEGIN:VEVENT
DTSTART:20210721T120000Z
DTEND:20210721T133000Z
X-MICROSOFT-CDO-ALLDAYEVENT:FALSE
SUMMARY:Marysville Business Association
DESCRIPTION:Marysville Business Association\n\nSpeed Networking Session
X-ALT-DESC;FMTTYPE=text/html:Marysville Business Association<br />\nSpeed Networking Session<br />\n&nbsp\;
LOCATION:The Elks Lodge 125 E Fifth St\, Marysville Use the Plum Street entrance
UID:e.1767.12979
SEQUENCE:3
DTSTAMP:20260422T222507Z
URL:https://chambermaster.unioncounty.org/events/details/marysville-business-association-07-21-2021-12979
END:VEVENT

END:VCALENDAR
